BEGIN:VCALENDAR
VERSION:2.0
PRODID:spatie/icalendar-generator
DESCRIPTION:Events from Ev Okulu Derneği
X-WR-CALDESC:Events from Ev Okulu Derneği
REFRESH-INTERVAL;VALUE=DURATION:PT1440M
X-PUBLISHED-TTL:PT1440M
BEGIN:VTIMEZONE
TZID:Europe/Istanbul
BEGIN:STANDARD
DTSTART:20220118T000000Z
TZOFFSETFROM:+0300
TZOFFSETTO:+0300
END:STANDARD
END:VTIMEZONE
BEGIN:VTIMEZONE
TZID:UTC
BEGIN:STANDARD
DTSTART:20250725T091815Z
TZOFFSETFROM:+0000
TZOFFSETTO:+0000
END:STANDARD
END:VTIMEZONE
BEGIN:VEVENT
UID:563-416
DTSTAMP:20260421T091815Z
SUMMARY:ASİS TESTİ EĞİTİMİ
LOCATION:
ORGANIZER;CN=admin:MAILTO:webcihakan@gmail.com
DTSTART;TZID=Europe/Istanbul;VALUE=DATE:20221015
DTEND;TZID=Europe/Istanbul;VALUE=DATE:20221017
X-ALT-DESC;FMTTYPE=TEXT/HTML:
CATEGORIES:ASİS TESTİ EĞİTİMİ
URL;VALUE=URI:https://evokulu.org/mc-events/asis-testi-egitimi/
METHOD:PUBLISH
END:VEVENT
END:VCALENDAR